BEGIN:VCALENDAR
VERSION:2.0
PRODID:-//Link4Skills - ECPv6.10.1.1//NONSGML v1.0//EN
CALSCALE:GREGORIAN
METHOD:PUBLISH
X-ORIGINAL-URL:https://link4skills.eu
X-WR-CALDESC:Events for Link4Skills
REFRESH-INTERVAL;VALUE=DURATION:PT1H
X-Robots-Tag:noindex
X-PUBLISHED-TTL:PT1H
BEGIN:VTIMEZONE
TZID:UTC
BEGIN:STANDARD
TZOFFSETFROM:+0000
TZOFFSETTO:+0000
TZNAME:UTC
DTSTART:20250101T000000
END:STANDARD
END:VTIMEZONE
BEGIN:VEVENT
DTSTART;TZID=UTC:20250617T160000
DTEND;TZID=UTC:20250617T170000
DTSTAMP:20260425T153541
CREATED:20250528T154851Z
LAST-MODIFIED:20250709T145222Z
UID:91134-1750176000-1750179600@link4skills.eu
SUMMARY:Mobility of International Students and Trainees into the EU - Cosmopolitanism Meets Migration Management
DESCRIPTION:You are warmly invited to the lecture “Mobility of International Students and Trainees into the EU – Cosmopolitanism meets Migration Management” delivered by Prof. Tesseltje de Lange (Radboud University in Nijmegen\, the Netherlands)\, a member of the Link4Skills Advisory Board.  \n\n\n\nThis event is part of the ongoing exploration of skill development for a resilient Europe within the framework of the Link4Skills project (https://link4skills.eu/)\, funded by the European Union (Horizon 2023). \n\n\n\nPlease send information to your colleagues and every one\, who might be interested. \n\n\n\nDetails:📅 Date: June: 17\, 2025⏰ Time: 16:00 CET🌐 Location: Online \n\n\n\n🔗 Registration link Registration open until June 15. \n\n\n\n❗𝐈𝐌𝐏𝐎𝐑𝐓𝐀𝐍𝐓: The meeting link will be sent to registered participants after the registration closes. \n\n\n\nThis lecture kicks-off with an assessment of legal migration pathways for international students and trainees into the EU. The international mobility of students and trainees was traditionally focused on cosmopolitanism and development goals which resulted in the EU Students and Researchers Directive. Retaining sought after international talents for EU labour markets was\, and still is\, a prominent policy goal. However\, reflecting broader shifts in the policy and political environment\, visa’s for students and trainees have also come to be seen as a leverage and bargaining chips to enhance cooperation with third countries on migration management e.g. forced return. Notwithstanding\, the lecture suggests ways forward for the EU towards a more global strategy for skills\, development and migration. \n\n\n\nDiscussant: Dr. Julia Reinold \n\n\n\n*** \n\n\n\nTesseltje de Lange is Professor of European Migration Law and Director of the Centre for Migration Law at Radboud University in Nijmegen\, the Netherlands. She is an expert on labour migration policy\, migrant worker rights\, and legal practice. She published widely and speaks regularly on policy conundrums related to irregular and regular migration pathways into the EU. A renowned socio-legal scholar\, De Lange serves as Principal Investigator on EU HorizonEurope projects DignityFIRM (www.dignityform.eu) on the rights of low-waged (irregular) migrant workers in European Farm2Fork sectors and HorizonEurope www.GS4S.eu\, investigating the role of migration in addressing skills shortages in Europe. Her latest book was published with CUP in 2021 on Money Matters in Migration\, and her work is published in amongst others the Journal of Ethnic and Migration Studies\, the European Journal of Migration and Law\, Work Employment and Society\, International Migration\, and Comparative Migration Studies. \n\n\n\nJulia Reinold is a postdoctoral researcher at Erasmus University Rotterdam\, specializing in high-skilled migration. She is currently working on the Link4Skills project\, where she oversees a multi-country survey on skilled migrants’ mobility experiences and aspirations. Until recently\, Julia was also affiliated with Maastricht University’s Institute for Transnational and Euregional cross-border cooperation and Mobility (ITEM)\, where she contributed to a study on the internationalisation of higher education in the Netherlands.
URL:https://link4skills.eu/index.php/event/mobility-of-international-students-and-trainees-into-the-eucosmopolitanism-meets-migration-management/
ATTACH;FMTTYPE=image/png:https://link4skills.eu/wp-content/uploads/2025/05/Screenshot-2025-05-28-at-17.44.40.png
END:VEVENT
BEGIN:VEVENT
DTSTART;TZID=UTC:20250626T160000
DTEND;TZID=UTC:20250626T170000
DTSTAMP:20260425T153541
CREATED:20250709T153448Z
LAST-MODIFIED:20250709T153449Z
UID:91184-1750953600-1750957200@link4skills.eu
SUMMARY:Ukrainian Female War Migrants: Mobilising Resources for Prospective Social Remittances
DESCRIPTION:You are warmly invited to the lecture “Ukrainian Female War Migrants: Mobilising Resources for Prospective Social Remittances” delivered by Prof. Izabela Grabowska\, the Scientific Coordinator of Link4Skills. This event is part of the ongoing exploration of skill development for a resilient Europe within the framework of the Link4Skills project (https://link4skills.eu/)\, funded by the European Union (Horizon 2023). \n\n\n\nDetails: \n\n\n\n📅 Date: June 26\, 2025 \n\n\n\n⏰ Time: 16:00 CET \n\n\n\n🌐 Location: Online \n\n\n\n🔗 Registration link: https://forms.gle/5H215xX6Qvi6jsWg6 \n\n\n\n❗𝐈𝐌𝐏𝐎𝐑𝐓𝐀𝐍𝐓: The meeting link will be sent to registered participants after the registration closes ( until June 24). \n\n\n\nThis lecture explores the experiences of Ukrainian women who have migrated in the context of war\, with a focus on how they mobilise personal\, social\, and institutional resources to generate prospective social remittances. Prof. Dr. Izabela Grabowska\, drawing on empirical research and conceptual insights\, will examine how war-induced migration shapes new patterns of resource mobilisation and influences future contributions to migrants’ home and host societies. Special attention will be given to: 1) The gendered dynamics of forced migration and integration. 2) The construction and transfer of prospective social remittances through informal and formal networks. 3) The role of psychological and social capital among female migrants. 4) The potential long-term impacts of these remittances on Ukrainian post-war reconstruction and social development. The presentation will be enriched by the analytical support of Dr. Ivanna Kyliushyk and Emil Chról\, and followed by critical reflections from experts in migration and Ukrainian studies\, Prof. Iryna Lapshyna and Dr. Valentyna Zasadko.This event offers valuable insights for scholars\, policymakers\, and practitioners interested in migration\, gender\, post-conflict recovery\, and transnational social change.With contributions from book co-authors: Dr. Ivanna Kyliushyk\, Kozminski University and Emil Chról\, University of Warsaw\, Kozminski UniversityDiscussants: Prof. Iryna Lapshyna\, Ukrainian Catholic University and Dr. Valentyna Zasadko\, Ukrainian Catholic University***Prof. Izabela Grabowska\, Ph.D.\, D.Sc. is a Professor of Social Sciences\, sociologist\, and economist. She holds a Ph.D. in Economics from the University of Warsaw\, an M.A. in Economics from University College Dublin\, and an M.A. in Sociology from the University of Wrocław. Her professorial proceedings in social sciences were conducted by the Institute of Philosophy and Sociology of the Polish Academy of Sciences (IFiS PAN). She is a recipient of the Foundation for Polish Science Fellowship and has held research fellowships at Humboldt University in Berlin (ERC grant)\, Utrecht University (visiting professor)\, and University College London (visiting scholar). Full Professor of Social Sciences Department of Economics and Leader of CRASH Center For Research on Social Change and Human Mobility at Kozminski University.
URL:https://link4skills.eu/index.php/event/ukrainian-female-war-migrants-mobilising-resources-for-prospective-social-remittances/
ATTACH;FMTTYPE=image/png:https://link4skills.eu/wp-content/uploads/2025/07/Screenshot-2025-07-09-at-17.34.11.png
END:VEVENT
BEGIN:VEVENT
DTSTART;TZID=UTC:20251104T160000
DTEND;TZID=UTC:20251104T173000
DTSTAMP:20260425T153541
CREATED:20251113T095232Z
LAST-MODIFIED:20251113T095459Z
UID:91502-1762272000-1762277400@link4skills.eu
SUMMARY:Transparency of qualifications and sustainability of migration: problems and solutions
DESCRIPTION:Link4Skills lecture (webinar): “Transparency of qualifications and sustainability of migration: problems and solutions” delivered by Prof. Vidmantas Tutlys\, researcher at the Education Academy\, Institute of Educational research at Vytautas Magnus University in Kaunas (Vytauto Didžiojo universitetas)\, Lithuania. \n\n\n\nThis event is part of the ongoing exploration of skill development for a resilient Europe within the framework of the Link4Skills / L4S project (https://link4skills.eu/)\, funded by the European Union (Horizon 2023). \n\n\n\nAbstract \n\n\n\nRecognition of learning outcomes and qualifications is a highly important institutional factor of labour migration policy. It defines and structures accessibility of the employment and training opportunities for the migrant workers in the destination and origin countries. When the qualifications and competences of the migrant workers acquired in their home countries are not properly recognized in the countries of destination\, the negative implications\, such as over-qualification caused by the mismatch of the job with the qualification of the migrant worker makes the employment and training pathways more complicated for the migrant workers and impedes the enterprises in the destination countries to solve their faced skills shortages by employing migrant workers. \n\n\n\nReferring to the findings of the research conduced in the Horizon Europe project “Skills4Justice” this lecture discloses the perspectives of the enterprises\, trade unions\, policy makers in the origin and destination countries concerning the issues related to the recognition of qualifications and competences of the migrant workers. It discusses the attitudes and views of the labour migrants on these issues. Finally\, it reviews the potential of the national systems of qualifications\, regional qualifications frameworks and other international or multi-country transparency tools to ensure transparent\, fair and valid assessment and recognition of the competences and qualifications of the migrant workers. \n\n\n\nDiscussants: Prof. Dr. Izabela Grabowska \n\n\n\n*** Prof. Vidmantas Tūtlys is a coordinator of Horizon Europe (sister project) Skills4Justice
URL:https://link4skills.eu/index.php/event/l4s-webinar-7/
ATTACH;FMTTYPE=image/png:https://link4skills.eu/wp-content/uploads/2025/11/Tutlys-thumbnail.png
END:VEVENT
BEGIN:VEVENT
DTSTART;TZID=UTC:20260409T160000
DTEND;TZID=UTC:20260409T170000
DTSTAMP:20260425T153541
CREATED:20260316T173607Z
LAST-MODIFIED:20260316T173831Z
UID:91931-1775750400-1775754000@link4skills.eu
SUMMARY:Lecture: ‘Migration Skill Corridors - Opportunities and Limits for Labour Migration Policy’
DESCRIPTION:You are warmly invited to the lecture ‘Migration Skill Corridors: Opportunities and Limits for Labour Migration Policy’delivered by Prof. Godfried Engbersen\, Emeritus Professor of General Sociology at Erasmus University Rotterdam.This event is part of the ongoing exploration of skill development for a resilient Europe within the framework of the #Link4Skills project (https://link4skills.eu/)\, funded by the European Union (Horizon 2023). \n\n\n\n🌐 Location: Online \n\n\n\n❗𝐈𝐌𝐏𝐎𝐑𝐓𝐀𝐍𝐓: The meeting link will be sent to registered participants after the registration closes. \n\n\n\nRegistration open until April 1. \n\n\n\nRegister here: \n\n\n\n🔗 https://lnkd.in/d4EC6hCv \n\n\n\n\nhttps://forms.cloud.microsoft/pages/responsepage.aspx?id=jQ5CRVKFA0qbkqkx74OdP8YvYraQ8SpChbjPrAl3GuNUM1NaQTlVWEFTUjFIRE5WS0RLVVdNRE9PSi4u&route=shorturl
URL:https://link4skills.eu/index.php/event/lecture-migration-skill-corridors-opportunities-and-limits-for-labour-migration-policy/
ATTACH;FMTTYPE=image/jpeg:https://link4skills.eu/wp-content/uploads/2026/03/1771340425351.jpeg
END:VEVENT
BEGIN:VEVENT
DTSTART;TZID=UTC:20261029T080000
DTEND;TZID=UTC:20261029T173000
DTSTAMP:20260425T153541
CREATED:20260319T132924Z
LAST-MODIFIED:20260319T133709Z
UID:91972-1793260800-1793295000@link4skills.eu
SUMMARY:Final Conference: "Three4GlobalSkills -Mobilising Skills for a Just and Inclusive Europe"
DESCRIPTION:Three Horizon Europe projects — GS4S\, Link4Skills and Skills4Justice — are coming together in Brussels for a joint final conference addressing one of Europe’s most pressing policy challenges: how to respond effectively to skills shortages in a rapidly changing global and economic context.\n\n\n\nThis event brings together complementary strands of research on labour migration\, skills development\, and labour market transformation.  \n\n\n\nThe conference will present: \n\n\n\n\nNew research findings on skills shortages\, skill mismatches and labour mobility\n\n\n\nInsights into business strategies and labour market responses\n\n\n\nPerspectives from countries of origin and destination\n\n\n\nLessons for the design of skills mobility and talent partnerships\n\n\n\nInnovative tools\, including the Link4Skills Navigator\, supporting data-driven policymaking\n\n\n\n\n\n\n\n\nThe conference will take place in Brussels and will be live-streamed. Further information\, including the full programme and registration details\, will be published soon.
URL:https://link4skills.eu/index.php/event/final-conference/
ATTACH;FMTTYPE=image/png:https://link4skills.eu/wp-content/uploads/2026/03/34s-logo-rev-19March.png
END:VEVENT
END:VCALENDAR