BEGIN:VCALENDAR
VERSION:2.0
PRODID:-//Link4Skills - ECPv6.10.1.1//NONSGML v1.0//EN
CALSCALE:GREGORIAN
METHOD:PUBLISH
X-ORIGINAL-URL:https://link4skills.eu
X-WR-CALDESC:Events for Link4Skills
REFRESH-INTERVAL;VALUE=DURATION:PT1H
X-Robots-Tag:noindex
X-PUBLISHED-TTL:PT1H
BEGIN:VTIMEZONE
TZID:UTC
BEGIN:STANDARD
TZOFFSETFROM:+0000
TZOFFSETTO:+0000
TZNAME:UTC
DTSTART:20240101T000000
END:STANDARD
END:VTIMEZONE
BEGIN:VEVENT
DTSTART;TZID=UTC:20240508T100000
DTEND;TZID=UTC:20240508T120000
DTSTAMP:20260424T222225
CREATED:20240213T095729Z
LAST-MODIFIED:20240704T155513Z
UID:13036-1715162400-1715169600@link4skills.eu
SUMMARY:SKILLS HORIZONS - Horizon projects showcase event
DESCRIPTION:Join us on May 8th for this unique online event offering access to more than 10 HORIZON research projects on skills for social and economic transformations. L4S coordinator Izabela Grabowska will present an overview of our newly launched project\, including development of the AI-powered Link4Skills Navigator.Choose from more than 10 dedicated rooms to engage in meaningful conversations\, explore project depths\, and foster personal connections that could shape the future of our initiatives.This event is being held as part of the European Year of Skills.Register here 👉 https://lnkd.in/ev-SwkpV
URL:https://link4skills.eu/index.php/event/event-calendar/
ATTACH;FMTTYPE=image/png:https://link4skills.eu/wp-content/uploads/2024/05/Screenshot-2024-05-06-at-23.13.56.png
END:VEVENT
END:VCALENDAR