BEGIN:VCALENDAR
VERSION:2.0
PRODID:-//Link4Skills - ECPv6.10.1.1//NONSGML v1.0//EN
CALSCALE:GREGORIAN
METHOD:PUBLISH
X-WR-CALNAME:Link4Skills
X-ORIGINAL-URL:https://link4skills.eu
X-WR-CALDESC:Events for Link4Skills
REFRESH-INTERVAL;VALUE=DURATION:PT1H
X-Robots-Tag:noindex
X-PUBLISHED-TTL:PT1H
BEGIN:VTIMEZONE
TZID:Europe/Berlin
BEGIN:DAYLIGHT
TZOFFSETFROM:+0100
TZOFFSETTO:+0200
TZNAME:CEST
DTSTART:20250330T010000
END:DAYLIGHT
BEGIN:STANDARD
TZOFFSETFROM:+0200
TZOFFSETTO:+0100
TZNAME:CET
DTSTART:20251026T010000
END:STANDARD
END:VTIMEZONE
BEGIN:VEVENT
DTSTART;TZID=Europe/Berlin:20250220T040000
DTEND;TZID=Europe/Berlin:20250220T173000
DTSTAMP:20260425T165345
CREATED:20250217T114310Z
LAST-MODIFIED:20250219T134312Z
UID:90629-1740024000-1740072600@link4skills.eu
SUMMARY:Lecture “Skills for Ageing Europe: Migrants? Robots? Other?”
DESCRIPTION:About the Lecture: \n\n\n\nThe European Skills Agenda and similar initiatives highlight the urgency of addressing labour market challenges in the context of an ageing population. This lecture critically examines two key approaches to skill shortages: \n\n\n\n\nMigration\, ensuring a sustainable influx of essential skills.\n\n\n\nTechnological Advancements\, such as automation and AI.\n\n\n\n\nOur speakers will also explore innovative and alternative solutions to enhance the resilience of European labour markets\, drawing upon insights from the Horizon Europe project FutuRes \n\n\n\nFeatured Speakers: \n\n\n\n\nProf. Dr. Jakub Bijak\n\n\n\nDr. Emily Barker\, University of Southampton\n\n\n\n\nDiscussants: \n\n\n\n\nProf. Aleksandra Przegalinska (Kozminski University)\n\n\n\nDr. Michaela Potancokova (IIASA \n\n\n\nJakub BIJAK works as a Professor of Statistical Demography at the University of Southampton\,UK. He has background in economics and over 20 years’ work experience in academia andinternational civil service. His research focuses on demographic uncertainty\, population andmigration models and forecasts\, and the demography of armed conflict. He has been awardedthe Allianz European Demographer Award (2015) and the Jerzy Z Holzer Medal (2007) for workon migration modelling. Recently\, he led a European Research Council project “Bayesianagent-based population studies” (www.baps-project.eu)\, and a Horizon 2020 project“QuantMig: Quantifying Migration Scenarios for Better Policy” (www.quantmig.eu).\n\n\n\n\nOnline \n\n\n\nView Location \n\n\n\nRegistration open until February 17: \n\n\n\nhttps://docs.google.com/forms/d/e/1FAIpQLSdN0P9C2T1FwwaC1LASIfMKAFAg1XAqx5ld_9maBA13W_2sRg/viewform \n\n\n\n \n\n\n\nFB:  https://www.facebook.com/events/4289282711298716 \n\n\n\nLD:  https://www.linkedin.com/events/skillsforageingeurope-migrants-7284996374574624768/comments/
URL:https://link4skills.eu/index.php/event/lecture-skills-for-ageing-europe-migrants-robots-other/
ATTACH;FMTTYPE=image/png:https://link4skills.eu/wp-content/uploads/2025/02/image.png
END:VEVENT
END:VCALENDAR