BEGIN:VCALENDAR
VERSION:2.0
PRODID:-//Link4Skills - ECPv6.10.1.1//NONSGML v1.0//EN
CALSCALE:GREGORIAN
METHOD:PUBLISH
X-WR-CALNAME:Link4Skills
X-ORIGINAL-URL:https://link4skills.eu
X-WR-CALDESC:Events for Link4Skills
REFRESH-INTERVAL;VALUE=DURATION:PT1H
X-Robots-Tag:noindex
X-PUBLISHED-TTL:PT1H
BEGIN:VTIMEZONE
TZID:UTC
BEGIN:STANDARD
TZOFFSETFROM:+0000
TZOFFSETTO:+0000
TZNAME:UTC
DTSTART:20250101T000000
END:STANDARD
END:VTIMEZONE
BEGIN:VEVENT
DTSTART;TZID=UTC:20250512T003000
DTEND;TZID=UTC:20250512T010000
DTSTAMP:20260425T121043
CREATED:20250507T064953Z
LAST-MODIFIED:20250507T070134Z
UID:91102-1747009800-1747011600@link4skills.eu
SUMMARY:The Social Construction of Skill in International LaborMigration: Perspectives from Asia
DESCRIPTION:You are warmly invited to the lecture “The Social Construction of Skill in International Labor Migration: Perspectives from Asia” delivered by Prof. Gracia Liu-Farrer\, a member of the Link4Skills Advisory Board. This event is part of the ongoing exploration of skill development for a resilient Europe within the framework of the Link4Skills project (hIps://link4skills.eu/)\, funded by the European Union (Horizon 2023). \n\n\n\n \n\n\n\nAbstract:Skill-based selective migration policies are a dominant contemporary form of migration governance in labor receiving countries. Researchers have critiqued these policies\, noting discrepancies between their intended goals and the actual labor market outcomes for immigrants. The social construction of skill offers a sociological interpretation of this migration phenomenon\, emphasizing that skills and their categorization in international migration are intrinsically political. Skills are socially constructed by actors in specific local\, national\, transnational and global contexts. This presentation reviews scholarship that explores these dynamics from Asian perspectives. It identifies the various positions countries in Asia occupy in skill mobility\, highlights the critical issues related to both outbound and inbound skill migration in this region\, as well as intra-regional mobilties. It cautions against a reproduction of skill hierarchy in social science research and advocates a social construction approach to analyzing skill mobilities in different world regions.Discussants:TBA \n\n\n\nGracia Liu-Farrer is Professor of sociology at the Graduate School of Asia-Pacific Studies\, and Director of Institute of Asian Migration at Waseda University\, Japan. Her research examines immigration into Japan\, transnational labor and student mobilities in East Asia as well as between Asia and Europe. She hopes to bring Asian experiences to migration and mobility theorization. Her recent books include Handbook of Asian Migrations (with Brenda Yeoh\, Routledge\, 2018)\, Immigrant Japan: Mobility and Belonging in an Ethno-nationalist Society (Cornell University Press\, 2020)\, Tangled Mobilities: Places\, Affects\, and Personhood across Social Spheres in Asian Migration (with Asuncion Fresnoza-Flot\, Berghahn Books\, 2022)\, and The Question of Skill in Cross-border Labour Mobilities (with Brenda Yeoh and Michele Baas\, Taylor & Francis\, 2023). She has published journal articles and book chapters on migrants ranging from Chinese students\, Nepali restaurant workers to Syrian refugees. \n\n\n\nEvent Details: \n\n\n\nProject website: https://link4skills.euDate and Time: May 12\, 2025Location: OnlineRegistration open until May 10: Forms❗𝐈𝐌𝐏𝐎𝐑𝐓𝐀𝐍𝐓: The meeting link will be sent to registered participants after the registrationcloses.LinkedIn event details: HEREFacebook event details: HERE
URL:https://link4skills.eu/index.php/event/the-social-construc1on-of-skill-in-interna1onal-labormigra1on-perspec1ves-from-asia/
ATTACH;FMTTYPE=image/png:https://link4skills.eu/wp-content/uploads/2025/05/image.png
END:VEVENT
END:VCALENDAR